BEGIN:VCALENDAR
VERSION:2.0
PRODID:-//Porzer Rathaussaal - ECPv6.15.20//NONSGML v1.0//EN
CALSCALE:GREGORIAN
METHOD:PUBLISH
X-WR-CALNAME:Porzer Rathaussaal
X-ORIGINAL-URL:https://rathaussaal-porz.de
X-WR-CALDESC:Veranstaltungen für Porzer Rathaussaal
REFRESH-INTERVAL;VALUE=DURATION:PT1H
X-Robots-Tag:noindex
X-PUBLISHED-TTL:PT1H
BEGIN:VTIMEZONE
TZID:Europe/Berlin
BEGIN:DAYLIGHT
TZOFFSETFROM:+0100
TZOFFSETTO:+0200
TZNAME:CEST
DTSTART:20250330T010000
END:DAYLIGHT
BEGIN:STANDARD
TZOFFSETFROM:+0200
TZOFFSETTO:+0100
TZNAME:CET
DTSTART:20251026T010000
END:STANDARD
BEGIN:DAYLIGHT
TZOFFSETFROM:+0100
TZOFFSETTO:+0200
TZNAME:CEST
DTSTART:20260329T010000
END:DAYLIGHT
BEGIN:STANDARD
TZOFFSETFROM:+0200
TZOFFSETTO:+0100
TZNAME:CET
DTSTART:20261025T010000
END:STANDARD
BEGIN:DAYLIGHT
TZOFFSETFROM:+0100
TZOFFSETTO:+0200
TZNAME:CEST
DTSTART:20270328T010000
END:DAYLIGHT
BEGIN:STANDARD
TZOFFSETFROM:+0200
TZOFFSETTO:+0100
TZNAME:CET
DTSTART:20271031T010000
END:STANDARD
END:VTIMEZONE
BEGIN:VEVENT
DTSTART;TZID=Europe/Berlin:20260425T200000
DTEND;TZID=Europe/Berlin:20260425T200000
DTSTAMP:20260426T001418
CREATED:20241031T155347Z
LAST-MODIFIED:20250821T132205Z
UID:3908-1777147200-1777147200@rathaussaal-porz.de
SUMMARY:Der Vorname
DESCRIPTION:Der Vorname\nKomödie von Matthieu Delaporte und Alexandre de la Patellière\nmit Alexandra Kamp\, Pascal Breuer\, Christian Nickel\, Sebastian Goder und Mia Geese \n  \nDie hitzige Diskussion um die Frage\, wie man sein Kind nennen darf\, führt dazu\, dass das bisher so gemütliche Familientreffen plötzlich aus dem Ruder läuft. Denn die Jugendfreunde Pierre und Vincent sind nun in der Laune\, sich endlich einmal ein paar Wahrheiten zu sagen\, die man im Interesse eines gedeihlichen Zusammenlebens lange verschwiegen hat. Beträchtliche Eitelkeiten treffen aufeinander und mit Lust und Niveau werden Wortgefechte ausgetragen\, doch die Contenance verlieren die Alphatiere erst\, als Elisabeths und Vincents Mutter Françoise in einer Weise ins Spiel kommt\, die sich niemand hat träumen lassen. \n  \nBildrechte:  Der Vorname 3 © Steffen Sennewald\n  \nTickets kaufen
URL:https://rathaussaal-porz.de/event/der-vorname/
LOCATION:Rathaussaal Porz – Bezirksrathaus Porz (Eingang „Bildungszentrum“/ EG)\, Alfred-Moritz-Platz 1\, Köln\, 51143
ATTACH;FMTTYPE=image/jpeg:https://rathaussaal-porz.de/wp-content/uploads/2024/10/Der-Vorname-3-R-Steffen-Sennewald-Website.jpg
ORGANIZER;CN="Stadt K%C3%B6ln - B%C3%BCrgeramt Porz":MAILTO:rathaussaal-porz@stadt-koeln.de
END:VEVENT
END:VCALENDAR